BEGIN:VCALENDAR
VERSION:2.0
PRODID:-//Douglas Multi-Family Property Management - ECPv6.15.20//NONSGML v1.0//EN
CALSCALE:GREGORIAN
METHOD:PUBLISH
X-ORIGINAL-URL:https://douglaspropertymanagement.org
X-WR-CALDESC:Events for Douglas Multi-Family Property Management
REFRESH-INTERVAL;VALUE=DURATION:PT1H
X-Robots-Tag:noindex
X-PUBLISHED-TTL:PT1H
BEGIN:VTIMEZONE
TZID:America/Los_Angeles
BEGIN:DAYLIGHT
TZOFFSETFROM:-0800
TZOFFSETTO:-0700
TZNAME:PDT
DTSTART:20250309T100000
END:DAYLIGHT
BEGIN:STANDARD
TZOFFSETFROM:-0700
TZOFFSETTO:-0800
TZNAME:PST
DTSTART:20251102T090000
END:STANDARD
BEGIN:DAYLIGHT
TZOFFSETFROM:-0800
TZOFFSETTO:-0700
TZNAME:PDT
DTSTART:20260308T100000
END:DAYLIGHT
BEGIN:STANDARD
TZOFFSETFROM:-0700
TZOFFSETTO:-0800
TZNAME:PST
DTSTART:20261101T090000
END:STANDARD
BEGIN:DAYLIGHT
TZOFFSETFROM:-0800
TZOFFSETTO:-0700
TZNAME:PDT
DTSTART:20270314T100000
END:DAYLIGHT
BEGIN:STANDARD
TZOFFSETFROM:-0700
TZOFFSETTO:-0800
TZNAME:PST
DTSTART:20271107T090000
END:STANDARD
END:VTIMEZONE
BEGIN:VEVENT
DTSTART;TZID=America/Los_Angeles:20260804T120000
DTEND;TZID=America/Los_Angeles:20260804T130000
DTSTAMP:20260425T180443
CREATED:20250520T173516Z
LAST-MODIFIED:20250520T173516Z
UID:1153-1785844800-1785848400@douglaspropertymanagement.org
SUMMARY:DMPM Board Meeting
DESCRIPTION:The DMPM Board of Commissioners meeting occurs the first Tuesday in February\, May\, August\, and November with occasional changes due to holidays. Board of Commissioners meetings are open to the public.
URL:https://douglaspropertymanagement.org/calendar/dmpm-board-meeting-2/
LOCATION:Douglas Multifamily Property Management\, 1000 W Stanton Street\, Roseburg\, OR\, 97471\, United States
CATEGORIES:DMPM Board
ORGANIZER;CN="Janeal Kohler":MAILTO:jkohler@hadcor.org
END:VEVENT
END:VCALENDAR