BEGIN:VCALENDAR
VERSION:2.0
PRODID:-//Douglas Multi-Family Property Management - ECPv6.15.20//NONSGML v1.0//EN
CALSCALE:GREGORIAN
METHOD:PUBLISH
X-ORIGINAL-URL:https://douglaspropertymanagement.org
X-WR-CALDESC:Events for Douglas Multi-Family Property Management
REFRESH-INTERVAL;VALUE=DURATION:PT1H
X-Robots-Tag:noindex
X-PUBLISHED-TTL:PT1H
BEGIN:VTIMEZONE
TZID:America/Los_Angeles
BEGIN:DAYLIGHT
TZOFFSETFROM:-0800
TZOFFSETTO:-0700
TZNAME:PDT
DTSTART:20240310T100000
END:DAYLIGHT
BEGIN:STANDARD
TZOFFSETFROM:-0700
TZOFFSETTO:-0800
TZNAME:PST
DTSTART:20241103T090000
END:STANDARD
BEGIN:DAYLIGHT
TZOFFSETFROM:-0800
TZOFFSETTO:-0700
TZNAME:PDT
DTSTART:20250309T100000
END:DAYLIGHT
BEGIN:STANDARD
TZOFFSETFROM:-0700
TZOFFSETTO:-0800
TZNAME:PST
DTSTART:20251102T090000
END:STANDARD
BEGIN:DAYLIGHT
TZOFFSETFROM:-0800
TZOFFSETTO:-0700
TZNAME:PDT
DTSTART:20260308T100000
END:DAYLIGHT
BEGIN:STANDARD
TZOFFSETFROM:-0700
TZOFFSETTO:-0800
TZNAME:PST
DTSTART:20261101T090000
END:STANDARD
END:VTIMEZONE
BEGIN:VEVENT
DTSTART;VALUE=DATE:20251225
DTEND;VALUE=DATE:20251227
DTSTAMP:20260425T190208
CREATED:20250520T002547Z
LAST-MODIFIED:20250520T004425Z
UID:1114-1766620800-1766793599@douglaspropertymanagement.org
SUMMARY:DMPM Office Closed - Christmas
DESCRIPTION:The Douglas Multifamily Property Management offices will be closed on Thursday and Friday for the Christmas holiday.
URL:https://douglaspropertymanagement.org/calendar/dmpm-office-closed-christmas/
LOCATION:Douglas Multifamily Property Management\, 1000 W Stanton Street\, Roseburg\, OR\, 97471\, United States
CATEGORIES:Office Closure
END:VEVENT
BEGIN:VEVENT
DTSTART;VALUE=DATE:20251229
DTEND;VALUE=DATE:20260101
DTSTAMP:20260425T190208
CREATED:20250827T172350Z
LAST-MODIFIED:20250827T172350Z
UID:1424-1766966400-1767225599@douglaspropertymanagement.org
SUMMARY:DMPM Office Closed - Staff In-Service Week
DESCRIPTION:The DMPM office will be closed from Monday\, December 29th through Wednesday\, December 31st for staff in-service. Our offices will reopen on Monday\, January 5th after the New Year’s holiday.
URL:https://douglaspropertymanagement.org/calendar/dmpm-office-closed-staff-in-service-week/
LOCATION:Douglas Multifamily Property Management\, 1000 W Stanton Street\, Roseburg\, OR\, 97471\, United States
CATEGORIES:Office Closure
ORGANIZER;CN="Janeal Kohler":MAILTO:jkohler@hadcor.org
END:VEVENT
END:VCALENDAR