BEGIN:VCALENDAR
VERSION:2.0
PRODID:-//Douglas Multi-Family Property Management - ECPv6.15.20//NONSGML v1.0//EN
CALSCALE:GREGORIAN
METHOD:PUBLISH
X-WR-CALNAME:Douglas Multi-Family Property Management
X-ORIGINAL-URL:https://douglaspropertymanagement.org
X-WR-CALDESC:Events for Douglas Multi-Family Property Management
REFRESH-INTERVAL;VALUE=DURATION:PT1H
X-Robots-Tag:noindex
X-PUBLISHED-TTL:PT1H
BEGIN:VTIMEZONE
TZID:America/Los_Angeles
BEGIN:DAYLIGHT
TZOFFSETFROM:-0800
TZOFFSETTO:-0700
TZNAME:PDT
DTSTART:20250309T100000
END:DAYLIGHT
BEGIN:STANDARD
TZOFFSETFROM:-0700
TZOFFSETTO:-0800
TZNAME:PST
DTSTART:20251102T090000
END:STANDARD
BEGIN:DAYLIGHT
TZOFFSETFROM:-0800
TZOFFSETTO:-0700
TZNAME:PDT
DTSTART:20260308T100000
END:DAYLIGHT
BEGIN:STANDARD
TZOFFSETFROM:-0700
TZOFFSETTO:-0800
TZNAME:PST
DTSTART:20261101T090000
END:STANDARD
BEGIN:DAYLIGHT
TZOFFSETFROM:-0800
TZOFFSETTO:-0700
TZNAME:PDT
DTSTART:20270314T100000
END:DAYLIGHT
BEGIN:STANDARD
TZOFFSETFROM:-0700
TZOFFSETTO:-0800
TZNAME:PST
DTSTART:20271107T090000
END:STANDARD
END:VTIMEZONE
BEGIN:VEVENT
DTSTART;VALUE=DATE:20260525
DTEND;VALUE=DATE:20260526
DTSTAMP:20260425T141001
CREATED:20250520T173043Z
LAST-MODIFIED:20250520T173043Z
UID:1143-1779667200-1779753599@douglaspropertymanagement.org
SUMMARY:DMPM Office Closed - Memorial Day
DESCRIPTION:The Douglas Multifamily Property Management offices will be closed for the Memorial Day Holiday.
URL:https://douglaspropertymanagement.org/calendar/dmpm-office-closed-memorial-day/
LOCATION:Douglas Multifamily Property Management\, 1000 W Stanton Street\, Roseburg\, OR\, 97471\, United States
CATEGORIES:Office Closure
END:VEVENT
END:VCALENDAR