BEGIN:VCALENDAR
VERSION:2.0
PRODID:-//Douglas Multi-Family Property Management - ECPv6.15.20//NONSGML v1.0//EN
CALSCALE:GREGORIAN
METHOD:PUBLISH
X-WR-CALNAME:Douglas Multi-Family Property Management
X-ORIGINAL-URL:https://douglaspropertymanagement.org
X-WR-CALDESC:Events for Douglas Multi-Family Property Management
REFRESH-INTERVAL;VALUE=DURATION:PT1H
X-Robots-Tag:noindex
X-PUBLISHED-TTL:PT1H
BEGIN:VTIMEZONE
TZID:America/Los_Angeles
BEGIN:DAYLIGHT
TZOFFSETFROM:-0800
TZOFFSETTO:-0700
TZNAME:PDT
DTSTART:20240310T100000
END:DAYLIGHT
BEGIN:STANDARD
TZOFFSETFROM:-0700
TZOFFSETTO:-0800
TZNAME:PST
DTSTART:20241103T090000
END:STANDARD
BEGIN:DAYLIGHT
TZOFFSETFROM:-0800
TZOFFSETTO:-0700
TZNAME:PDT
DTSTART:20250309T100000
END:DAYLIGHT
BEGIN:STANDARD
TZOFFSETFROM:-0700
TZOFFSETTO:-0800
TZNAME:PST
DTSTART:20251102T090000
END:STANDARD
BEGIN:DAYLIGHT
TZOFFSETFROM:-0800
TZOFFSETTO:-0700
TZNAME:PDT
DTSTART:20260308T100000
END:DAYLIGHT
BEGIN:STANDARD
TZOFFSETFROM:-0700
TZOFFSETTO:-0800
TZNAME:PST
DTSTART:20261101T090000
END:STANDARD
BEGIN:DAYLIGHT
TZOFFSETFROM:-0800
TZOFFSETTO:-0700
TZNAME:PDT
DTSTART:20270314T100000
END:DAYLIGHT
BEGIN:STANDARD
TZOFFSETFROM:-0700
TZOFFSETTO:-0800
TZNAME:PST
DTSTART:20271107T090000
END:STANDARD
END:VTIMEZONE
BEGIN:VEVENT
DTSTART;VALUE=DATE:20260216
DTEND;VALUE=DATE:20260217
DTSTAMP:20260425T122640
CREATED:20250410T202803Z
LAST-MODIFIED:20250520T004502Z
UID:956-1771200000-1771286399@douglaspropertymanagement.org
SUMMARY:DMPM Office Closed - President's Day
DESCRIPTION:The Douglas Multifamily Property Management offices will be closed for the President’s Day holiday.
URL:https://douglaspropertymanagement.org/calendar/office-closed-presidents-day/
LOCATION:Douglas Multifamily Property Management\, 1000 W Stanton Street\, Roseburg\, OR\, 97471\, United States
CATEGORIES:Office Closure
END:VEVENT
BEGIN:VEVENT
DTSTART;VALUE=DATE:20260119
DTEND;VALUE=DATE:20260120
DTSTAMP:20260425T122640
CREATED:20250520T002827Z
LAST-MODIFIED:20250520T004451Z
UID:1119-1768780800-1768867199@douglaspropertymanagement.org
SUMMARY:DMPM Office Closed - Martin Luther King Jr Day
DESCRIPTION:The Douglas Multifamily Property Management offices will be closed for the Martin Luther King Jr. Day holiday.
URL:https://douglaspropertymanagement.org/calendar/dmpm-office-closed-mlkj-day/
LOCATION:Douglas Multifamily Property Management\, 1000 W Stanton Street\, Roseburg\, OR\, 97471\, United States
CATEGORIES:Office Closure
END:VEVENT
BEGIN:VEVENT
DTSTART;VALUE=DATE:20260101
DTEND;VALUE=DATE:20260103
DTSTAMP:20260425T122640
CREATED:20250410T202730Z
LAST-MODIFIED:20250520T004438Z
UID:954-1767225600-1767398399@douglaspropertymanagement.org
SUMMARY:DMPM Office Closed - New Year's Day
DESCRIPTION:The Douglas Multifamily Property Management offices will be closed Thursday and Friday for the New Year’s Day holiday.
URL:https://douglaspropertymanagement.org/calendar/dmpm-office-closed-new-years-day/
LOCATION:Douglas Multifamily Property Management\, 1000 W Stanton Street\, Roseburg\, OR\, 97471\, United States
CATEGORIES:Office Closure
END:VEVENT
BEGIN:VEVENT
DTSTART;VALUE=DATE:20251229
DTEND;VALUE=DATE:20260101
DTSTAMP:20260425T122640
CREATED:20250827T172350Z
LAST-MODIFIED:20250827T172350Z
UID:1424-1766966400-1767225599@douglaspropertymanagement.org
SUMMARY:DMPM Office Closed - Staff In-Service Week
DESCRIPTION:The DMPM office will be closed from Monday\, December 29th through Wednesday\, December 31st for staff in-service. Our offices will reopen on Monday\, January 5th after the New Year’s holiday.
URL:https://douglaspropertymanagement.org/calendar/dmpm-office-closed-staff-in-service-week/
LOCATION:Douglas Multifamily Property Management\, 1000 W Stanton Street\, Roseburg\, OR\, 97471\, United States
CATEGORIES:Office Closure
ORGANIZER;CN="Janeal Kohler":MAILTO:jkohler@hadcor.org
END:VEVENT
BEGIN:VEVENT
DTSTART;VALUE=DATE:20251225
DTEND;VALUE=DATE:20251227
DTSTAMP:20260425T122640
CREATED:20250520T002547Z
LAST-MODIFIED:20250520T004425Z
UID:1114-1766620800-1766793599@douglaspropertymanagement.org
SUMMARY:DMPM Office Closed - Christmas
DESCRIPTION:The Douglas Multifamily Property Management offices will be closed on Thursday and Friday for the Christmas holiday.
URL:https://douglaspropertymanagement.org/calendar/dmpm-office-closed-christmas/
LOCATION:Douglas Multifamily Property Management\, 1000 W Stanton Street\, Roseburg\, OR\, 97471\, United States
CATEGORIES:Office Closure
END:VEVENT
BEGIN:VEVENT
DTSTART;VALUE=DATE:20251127
DTEND;VALUE=DATE:20251129
DTSTAMP:20260425T122640
CREATED:20250410T202702Z
LAST-MODIFIED:20250520T004353Z
UID:952-1764201600-1764374399@douglaspropertymanagement.org
SUMMARY:DMPM Office Closed - Thanksgiving
DESCRIPTION:The Douglas Multifamily Property Management offices will be closed on Thursday and Friday for the Thanksgiving holiday.
URL:https://douglaspropertymanagement.org/calendar/hadco-office-closed-thanksgiving/
LOCATION:Douglas Multifamily Property Management\, 1000 W Stanton Street\, Roseburg\, OR\, 97471\, United States
CATEGORIES:Office Closure
END:VEVENT
BEGIN:VEVENT
DTSTART;VALUE=DATE:20251111
DTEND;VALUE=DATE:20251112
DTSTAMP:20260425T122640
CREATED:20250520T002457Z
LAST-MODIFIED:20250520T004337Z
UID:1112-1762819200-1762905599@douglaspropertymanagement.org
SUMMARY:DMPM Office Closed - Veterans Day
DESCRIPTION:The Douglas Multifamily Property Management offices will be closed for the Veterans Day holiday.
URL:https://douglaspropertymanagement.org/calendar/dmpm-office-closed-veterans-day/
LOCATION:Douglas Multifamily Property Management\, 1000 W Stanton Street\, Roseburg\, OR\, 97471\, United States
CATEGORIES:Office Closure
END:VEVENT
BEGIN:VEVENT
DTSTART;VALUE=DATE:20250901
DTEND;VALUE=DATE:20250902
DTSTAMP:20260425T122640
CREATED:20250520T004043Z
LAST-MODIFIED:20250520T004323Z
UID:1133-1756684800-1756771199@douglaspropertymanagement.org
SUMMARY:DMPM Office Closed - Labor Day
DESCRIPTION:The Douglas Multifamily Property Management offices will be closed for the Labor Day holiday.
URL:https://douglaspropertymanagement.org/calendar/dmpm-office-closed-labor-day/
LOCATION:Douglas Multifamily Property Management\, 1000 W Stanton Street\, Roseburg\, OR\, 97471\, United States
CATEGORIES:Office Closure
END:VEVENT
BEGIN:VEVENT
DTSTART;VALUE=DATE:20250704
DTEND;VALUE=DATE:20250705
DTSTAMP:20260425T122640
CREATED:20250410T202621Z
LAST-MODIFIED:20250520T004309Z
UID:950-1751587200-1751673599@douglaspropertymanagement.org
SUMMARY:DMPM Office Closed - Independence Day
DESCRIPTION:The Douglas Multifamily Property Management offices will be closed for the Independence Day holiday.
URL:https://douglaspropertymanagement.org/calendar/office-closed-independence-day-1/
LOCATION:Douglas Multifamily Property Management\, 1000 W Stanton Street\, Roseburg\, OR\, 97471\, United States
CATEGORIES:Office Closure
END:VEVENT
BEGIN:VEVENT
DTSTART;VALUE=DATE:20250526
DTEND;VALUE=DATE:20250527
DTSTAMP:20260425T122640
CREATED:20250410T202007Z
LAST-MODIFIED:20250520T004233Z
UID:914-1748217600-1748303999@douglaspropertymanagement.org
SUMMARY:DMPM Office Closed - Memorial Day
DESCRIPTION:The Douglas Multifamily Property Management offices will be closed for the Memorial Day Holiday.
URL:https://douglaspropertymanagement.org/calendar/office-closed-memorial-day-1/
LOCATION:Douglas Multifamily Property Management\, 1000 W Stanton Street\, Roseburg\, OR\, 97471\, United States
CATEGORIES:Office Closure
END:VEVENT
END:VCALENDAR