BEGIN:VCALENDAR
VERSION:2.0
PRODID:-//Douglas Multi-Family Property Management - ECPv6.15.20//NONSGML v1.0//EN
CALSCALE:GREGORIAN
METHOD:PUBLISH
X-ORIGINAL-URL:https://douglaspropertymanagement.org
X-WR-CALDESC:Events for Douglas Multi-Family Property Management
REFRESH-INTERVAL;VALUE=DURATION:PT1H
X-Robots-Tag:noindex
X-PUBLISHED-TTL:PT1H
BEGIN:VTIMEZONE
TZID:America/Los_Angeles
BEGIN:DAYLIGHT
TZOFFSETFROM:-0800
TZOFFSETTO:-0700
TZNAME:PDT
DTSTART:20240310T100000
END:DAYLIGHT
BEGIN:STANDARD
TZOFFSETFROM:-0700
TZOFFSETTO:-0800
TZNAME:PST
DTSTART:20241103T090000
END:STANDARD
BEGIN:DAYLIGHT
TZOFFSETFROM:-0800
TZOFFSETTO:-0700
TZNAME:PDT
DTSTART:20250309T100000
END:DAYLIGHT
BEGIN:STANDARD
TZOFFSETFROM:-0700
TZOFFSETTO:-0800
TZNAME:PST
DTSTART:20251102T090000
END:STANDARD
BEGIN:DAYLIGHT
TZOFFSETFROM:-0800
TZOFFSETTO:-0700
TZNAME:PDT
DTSTART:20260308T100000
END:DAYLIGHT
BEGIN:STANDARD
TZOFFSETFROM:-0700
TZOFFSETTO:-0800
TZNAME:PST
DTSTART:20261101T090000
END:STANDARD
BEGIN:DAYLIGHT
TZOFFSETFROM:-0800
TZOFFSETTO:-0700
TZNAME:PDT
DTSTART:20270314T100000
END:DAYLIGHT
BEGIN:STANDARD
TZOFFSETFROM:-0700
TZOFFSETTO:-0800
TZNAME:PST
DTSTART:20271107T090000
END:STANDARD
END:VTIMEZONE
BEGIN:VEVENT
DTSTART;TZID=America/Los_Angeles:20260416T110000
DTEND;TZID=America/Los_Angeles:20260416T120000
DTSTAMP:20260425T133824
CREATED:20250520T172813Z
LAST-MODIFIED:20250520T172813Z
UID:1137-1776337200-1776340800@douglaspropertymanagement.org
SUMMARY:Resident Advisory Board Meeting
DESCRIPTION:The HADCO/DMPM Resident Advisory Board (RAB) meetings occur on the third Thursday of each month. RAB meetings are open to the public.
URL:https://douglaspropertymanagement.org/calendar/resident-advisory-board-meeting-4/
LOCATION:Douglas Multifamily Property Management\, 1000 W Stanton Street\, Roseburg\, OR\, 97471\, United States
CATEGORIES:RAB
ORGANIZER;CN="Janeal Kohler":MAILTO:jkohler@hadcor.org
END:VEVENT
BEGIN:VEVENT
DTSTART;TZID=America/Los_Angeles:20260319T110000
DTEND;TZID=America/Los_Angeles:20260319T120000
DTSTAMP:20260425T133824
CREATED:20250520T004117Z
LAST-MODIFIED:20250520T004117Z
UID:1135-1773918000-1773921600@douglaspropertymanagement.org
SUMMARY:Resident Advisory Board Meeting
DESCRIPTION:The HADCO/DMPM Resident Advisory Board (RAB) meetings occur on the third Thursday of each month. RAB meetings are open to the public.
URL:https://douglaspropertymanagement.org/calendar/resident-advisory-board-meeting-3/
LOCATION:Douglas Multifamily Property Management\, 1000 W Stanton Street\, Roseburg\, OR\, 97471\, United States
CATEGORIES:RAB
ORGANIZER;CN="Janeal Kohler":MAILTO:jkohler@hadcor.org
END:VEVENT
BEGIN:VEVENT
DTSTART;TZID=America/Los_Angeles:20260219T110000
DTEND;TZID=America/Los_Angeles:20260219T120000
DTSTAMP:20260425T133824
CREATED:20250520T004010Z
LAST-MODIFIED:20250520T004010Z
UID:1131-1771498800-1771502400@douglaspropertymanagement.org
SUMMARY:Resident Advisory Board Meeting
DESCRIPTION:The HADCO/DMPM Resident Advisory Board (RAB) meetings occur on the third Thursday of each month. RAB meetings are open to the public.
URL:https://douglaspropertymanagement.org/calendar/resident-advisory-board-meeting-2/
LOCATION:Douglas Multifamily Property Management\, 1000 W Stanton Street\, Roseburg\, OR\, 97471\, United States
CATEGORIES:RAB
ORGANIZER;CN="Janeal Kohler":MAILTO:jkohler@hadcor.org
END:VEVENT
BEGIN:VEVENT
DTSTART;TZID=America/Los_Angeles:20260115T110000
DTEND;TZID=America/Los_Angeles:20260115T120000
DTSTAMP:20260425T133824
CREATED:20250520T003917Z
LAST-MODIFIED:20250520T003917Z
UID:1129-1768474800-1768478400@douglaspropertymanagement.org
SUMMARY:Resident Advisory Board Meeting
DESCRIPTION:The HADCO/DMPM Resident Advisory Board (RAB) meetings occur on the third Thursday of each month. RAB meetings are open to the public.
URL:https://douglaspropertymanagement.org/calendar/resident-advisory-board-meeting/
LOCATION:Douglas Multifamily Property Management\, 1000 W Stanton Street\, Roseburg\, OR\, 97471\, United States
CATEGORIES:RAB
ORGANIZER;CN="Janeal Kohler":MAILTO:jkohler@hadcor.org
END:VEVENT
BEGIN:VEVENT
DTSTART;TZID=America/Los_Angeles:20251218T110000
DTEND;TZID=America/Los_Angeles:20251218T120000
DTSTAMP:20260425T133824
CREATED:20250410T202502Z
LAST-MODIFIED:20250520T003802Z
UID:948-1766055600-1766059200@douglaspropertymanagement.org
SUMMARY:Resident Advisory Board Meeting
DESCRIPTION:The HADCO/DMPM Resident Advisory Board (RAB) meetings occur on the third Thursday of each month. RAB meetings are open to the public.
URL:https://douglaspropertymanagement.org/calendar/rab-meeting-9/
LOCATION:Douglas Multifamily Property Management\, 1000 W Stanton Street\, Roseburg\, OR\, 97471\, United States
CATEGORIES:RAB
ORGANIZER;CN="Janeal Kohler":MAILTO:jkohler@hadcor.org
END:VEVENT
BEGIN:VEVENT
DTSTART;TZID=America/Los_Angeles:20251121T110000
DTEND;TZID=America/Los_Angeles:20251121T120000
DTSTAMP:20260425T133824
CREATED:20250410T202449Z
LAST-MODIFIED:20250520T003727Z
UID:946-1763722800-1763726400@douglaspropertymanagement.org
SUMMARY:Resident Advisory Board Meeting
DESCRIPTION:The HADCO/DMPM Resident Advisory Board (RAB) meetings occur on the third Thursday of each month. RAB meetings are open to the public.
URL:https://douglaspropertymanagement.org/calendar/rab-meeting-8/
LOCATION:Douglas Multifamily Property Management\, 1000 W Stanton Street\, Roseburg\, OR\, 97471\, United States
CATEGORIES:RAB
END:VEVENT
BEGIN:VEVENT
DTSTART;TZID=America/Los_Angeles:20251016T110000
DTEND;TZID=America/Los_Angeles:20251016T120000
DTSTAMP:20260425T133824
CREATED:20250410T202429Z
LAST-MODIFIED:20250520T003651Z
UID:944-1760612400-1760616000@douglaspropertymanagement.org
SUMMARY:Resident Advisory Board Meeting
DESCRIPTION:The HADCO/DMPM Resident Advisory Board (RAB) meetings occur on the third Thursday of each month. RAB meetings are open to the public.
URL:https://douglaspropertymanagement.org/calendar/rab-meeting-7/
LOCATION:Douglas Multifamily Property Management\, 1000 W Stanton Street\, Roseburg\, OR\, 97471\, United States
CATEGORIES:RAB
END:VEVENT
BEGIN:VEVENT
DTSTART;TZID=America/Los_Angeles:20250918T110000
DTEND;TZID=America/Los_Angeles:20250918T120000
DTSTAMP:20260425T133824
CREATED:20250410T202412Z
LAST-MODIFIED:20250520T003618Z
UID:942-1758193200-1758196800@douglaspropertymanagement.org
SUMMARY:Resident Advisory Board Meeting
DESCRIPTION:The HADCO/DMPM Resident Advisory Board (RAB) meetings occur on the third Thursday of each month. RAB meetings are open to the public.
URL:https://douglaspropertymanagement.org/calendar/rab-meeting-6/
LOCATION:Douglas Multifamily Property Management\, 1000 W Stanton Street\, Roseburg\, OR\, 97471\, United States
CATEGORIES:RAB
ORGANIZER;CN="Janeal Kohler":MAILTO:jkohler@hadcor.org
END:VEVENT
BEGIN:VEVENT
DTSTART;TZID=America/Los_Angeles:20250821T110000
DTEND;TZID=America/Los_Angeles:20250821T120000
DTSTAMP:20260425T133824
CREATED:20250410T202354Z
LAST-MODIFIED:20250520T003235Z
UID:940-1755774000-1755777600@douglaspropertymanagement.org
SUMMARY:Resident Advisory Board Meeting
DESCRIPTION:The HADCO/DMPM Resident Advisory Board (RAB) meetings occur on the third Thursday of each month. RAB meetings are open to the public.
URL:https://douglaspropertymanagement.org/calendar/rab-meeting-5/
LOCATION:Douglas Multifamily Property Management\, 1000 W Stanton Street\, Roseburg\, OR\, 97471\, United States
CATEGORIES:RAB
END:VEVENT
BEGIN:VEVENT
DTSTART;TZID=America/Los_Angeles:20250717T110000
DTEND;TZID=America/Los_Angeles:20250717T120000
DTSTAMP:20260425T133825
CREATED:20250410T202340Z
LAST-MODIFIED:20250520T003105Z
UID:938-1752750000-1752753600@douglaspropertymanagement.org
SUMMARY:Resident Advisory Board Meeting
DESCRIPTION:The HADCO/DMPM Resident Advisory Board (RAB) meetings occur on the third Thursday of each month. RAB meetings are open to the public.
URL:https://douglaspropertymanagement.org/calendar/rab-meeting-4/
LOCATION:Douglas Multifamily Property Management\, 1000 W Stanton Street\, Roseburg\, OR\, 97471\, United States
CATEGORIES:RAB
ORGANIZER;CN="Janeal Kohler":MAILTO:jkohler@hadcor.org
END:VEVENT
BEGIN:VEVENT
DTSTART;TZID=America/Los_Angeles:20250619T110000
DTEND;TZID=America/Los_Angeles:20250619T120000
DTSTAMP:20260425T133825
CREATED:20250410T202034Z
LAST-MODIFIED:20250520T003029Z
UID:916-1750330800-1750334400@douglaspropertymanagement.org
SUMMARY:Resident Advisory Board Meeting
DESCRIPTION:The HADCO/DMPM Resident Advisory Board (RAB) meetings occur on the third Thursday of each month. RAB meetings are open to the public.
URL:https://douglaspropertymanagement.org/calendar/rab-meeting-3/
LOCATION:Douglas Multifamily Property Management\, 1000 W Stanton Street\, Roseburg\, OR\, 97471\, United States
CATEGORIES:RAB
ORGANIZER;CN="Janeal Kohler":MAILTO:jkohler@hadcor.org
END:VEVENT
END:VCALENDAR